BEGIN:VCALENDAR
VERSION:2.0
PRODID:-//https://www.lecze-salezjanie.pl///DJ-Events//EN
BEGIN:VEVENT
SUMMARY:O zdrowie, Błogosławieństwo Boże i opiekę Matki Bożej dla rodziny Śmiechów i Gawlików
UID:652@https://www.lecze-salezjanie.pl/
DTSTART:20220718T180000
DTEND:20220718T180000
DTSTAMP:20260419T224743
CATEGORIES:Msza święta
LOCATION:Łęcze 82-340 Łęcze 48
GEO:54.2700545652713;19.468870040475466
DESCRIPTION:
URL:https://www.lecze-salezjanie.pl//component/djevents/details/2022-07-18/652-o-zdrowie-blogoslawienstwo-boze-i-opieke-matki-bozej-dla-rodziny-smiechow-i-gawlikow
END:VEVENT
END:VCALENDAR
