BEGIN:VCALENDAR
VERSION:2.0
PRODID:-//https://www.lecze-salezjanie.pl///DJ-Events//EN
BEGIN:VEVENT
SUMMARY:+ Józef, Anna, Wiktor, Janina, Wiktor, Tadeusz, Andrzej, Lech i wszyscy z rodziny Rymsza i Maciuńskich
UID:637@https://www.lecze-salezjanie.pl/
DTSTART:20220719T170000
DTEND:20220719T170000
DTSTAMP:20260419T225430
CATEGORIES:Msza święta
LOCATION:Suchacz 82-340 Kielecka 14
GEO:54.2856461944789;19.44132685661316
DESCRIPTION:
URL:https://www.lecze-salezjanie.pl//component/djevents/details/2022-07-19/637-jozef-anna-wiktor-janina-wiktor-tadeusz-andrzej-lech-i-wszyscy-z-rodziny-rymsza-i-maciunskich
END:VEVENT
END:VCALENDAR
