BEGIN:VCALENDAR
VERSION:2.0
PRODID:-//https://www.lecze-salezjanie.pl///DJ-Events//EN
BEGIN:VEVENT
SUMMARY:+ Tadeusz i Izydor Piech
UID:653@https://www.lecze-salezjanie.pl/
DTSTART:20220720T180000
DTEND:20220720T180000
DTSTAMP:20260419T224532
CATEGORIES:Msza święta
LOCATION:Łęcze 82-340 Łęcze 48
GEO:54.2700545652713;19.468870040475466
DESCRIPTION:
URL:https://www.lecze-salezjanie.pl//component/djevents/details/2022-07-20/653-tadeusz-i-izydor-piech
END:VEVENT
END:VCALENDAR
