BEGIN:VCALENDAR
VERSION:2.0
PRODID:-//https://www.lecze-salezjanie.pl///DJ-Events//EN
BEGIN:VEVENT
SUMMARY:+ Szczepan Grochoła - w 1 rocznicę śmierci oraz za zmarłych rodziców
UID:561@https://www.lecze-salezjanie.pl/
DTSTART:20220723T180000
DTEND:20220723T180000
DTSTAMP:20260419T224638
CATEGORIES:Msza święta
LOCATION:Łęcze 82-340 Łęcze 48
GEO:54.2700545652713;19.468870040475466
DESCRIPTION:
URL:https://www.lecze-salezjanie.pl//component/djevents/details/2022-07-23/561-szczepan-grochola-w-1-rocznice-smierci-oraz-za-zmarlych-rodzicow
END:VEVENT
END:VCALENDAR
