BEGIN:VCALENDAR
VERSION:2.0
PRODID:-//https://www.lecze-salezjanie.pl///DJ-Events//EN
BEGIN:VEVENT
SUMMARY:+ Rozalia Lejmanowicz oraz zmarli z rodziny
UID:269@https://www.lecze-salezjanie.pl/
DTSTART:20220724T090000
DTEND:20220724T090000
DTSTAMP:20260419T210125
CATEGORIES:Msza święta
LOCATION:Łęcze 82-340 Łęcze 48
GEO:54.2700545652713;19.468870040475466
DESCRIPTION:
URL:https://www.lecze-salezjanie.pl//component/djevents/details/2022-07-24/269-rozalia-lejmanowicz-oraz-zmarli-z-rodziny
END:VEVENT
END:VCALENDAR
