BEGIN:VCALENDAR
VERSION:2.0
PRODID:-//https://www.lecze-salezjanie.pl///DJ-Events//EN
BEGIN:VEVENT
SUMMARY:O Boże Błogosławieństwo, zdrowie i opiekę Matki Bożej dla Anny Rymsza z okazji imienin
UID:638@https://www.lecze-salezjanie.pl/
DTSTART:20220728T170000
DTEND:20220728T170000
DTSTAMP:20260419T212555
CATEGORIES:Msza święta
LOCATION:Suchacz 82-340 Kielecka 14
GEO:54.2856461944789;19.44132685661316
DESCRIPTION:
URL:https://www.lecze-salezjanie.pl//component/djevents/details/2022-07-28/638-o-boze-blogoslawienstwo-zdrowie-i-opieke-matki-bozej-dla-anny-rymsza-z-okazji-imienin
END:VEVENT
END:VCALENDAR
