BEGIN:VCALENDAR
VERSION:2.0
PRODID:-//https://www.lecze-salezjanie.pl///DJ-Events//EN
BEGIN:VEVENT
SUMMARY:+ Kazimierz Machciński - w 40 rocznicę śmierci, Apolonia Machcińska, Natalia i Jan Madej oraz Irena Listkowska
UID:275@https://www.lecze-salezjanie.pl/
DTSTART:20220731T090000
DTEND:20220731T090000
DTSTAMP:20260419T194025
CATEGORIES:Msza święta
LOCATION:Łęcze 82-340 Łęcze 48
GEO:54.2700545652713;19.468870040475466
DESCRIPTION:
URL:https://www.lecze-salezjanie.pl//component/djevents/details/2022-07-31/275-kazimierz-machcinski-w-40-rocznice-smierci-apolonia-machcinska-natalia-i-jan-madej-oraz-irena-listkowska
END:VEVENT
END:VCALENDAR
