BEGIN:VCALENDAR
VERSION:2.0
PRODID:-//https://www.lecze-salezjanie.pl///DJ-Events//EN
BEGIN:VEVENT
SUMMARY:Dziękczynna, z prośbą o dary Bożej Miłości, łaskę wiary i zdrowie w dniu urodzin dla Dawida
UID:581@https://www.lecze-salezjanie.pl/
DTSTART:20220801T180000
DTEND:20220801T180000
DTSTAMP:20260419T193927
CATEGORIES:Msza święta
LOCATION:Łęcze 82-340 Łęcze 48
GEO:54.2700545652713;19.468870040475466
DESCRIPTION:
URL:https://www.lecze-salezjanie.pl//component/djevents/details/2022-08-01/581-dziekczynna-z-prosba-o-dary-bozej-milosci-laske-wiary-i-zdrowie-w-dniu-urodzin-dla-dawida
END:VEVENT
END:VCALENDAR
