BEGIN:VCALENDAR
VERSION:2.0
PRODID:-//https://www.lecze-salezjanie.pl///DJ-Events//EN
BEGIN:VEVENT
SUMMARY:O Boże Błogosławieństwo, opiekę Matki Bożej dla Rysi i Michała w 3 rocznicę ślubu
UID:656@https://www.lecze-salezjanie.pl/
DTSTART:20220802T170000
DTEND:20220802T170000
DTSTAMP:20260419T194009
CATEGORIES:Msza święta
LOCATION:Suchacz 82-340 Kielecka 14
GEO:54.2856461944789;19.44132685661316
DESCRIPTION:
URL:https://www.lecze-salezjanie.pl//component/djevents/details/2022-08-02/656-o-boze-blogoslawienstwo-opieke-matki-bozej-dla-rysi-i-michala-w-3-rocznice-slubu
END:VEVENT
END:VCALENDAR
