BEGIN:VCALENDAR
VERSION:2.0
PRODID:-//https://www.lecze-salezjanie.pl///DJ-Events//EN
BEGIN:VEVENT
SUMMARY:O szczęśliwe rozwiązanie, zdrowie i opiekę Matki Bożej dla Katarzyny Pankiewicz i jej dziecka
UID:582@https://www.lecze-salezjanie.pl/
DTSTART:20220803T180000
DTEND:20220803T180000
DTSTAMP:20260419T194050
CATEGORIES:Msza święta
LOCATION:Łęcze 82-340 Łęcze 48
GEO:54.2700545652713;19.468870040475466
DESCRIPTION:
URL:https://www.lecze-salezjanie.pl//component/djevents/details/2022-08-03/582-o-szczesliwe-rozwiazanie-zdrowie-i-opieke-matki-bozej-dla-katarzyny-pankiewicz-i-jej-dziecka
END:VEVENT
END:VCALENDAR
