BEGIN:VCALENDAR
VERSION:2.0
PRODID:-//https://www.lecze-salezjanie.pl///DJ-Events//EN
BEGIN:VEVENT
SUMMARY:+ Karolina, Władysław, Józef Franczyk, Stanisław Sacha, Alicja i Jerzy Zemła, zmarli z rodziny
UID:655@https://www.lecze-salezjanie.pl/
DTSTART:20220804T170000
DTEND:20220804T170000
DTSTAMP:20260419T193905
CATEGORIES:Msza święta
LOCATION:Suchacz 82-340 Kielecka 14
GEO:54.2856461944789;19.44132685661316
DESCRIPTION:
URL:https://www.lecze-salezjanie.pl//component/djevents/details/2022-08-04/655-karolina-wladyslaw-jozef-franczyk-stanislaw-sacha-alicja-i-jerzy-zemla-zmarli-z-rodziny
END:VEVENT
END:VCALENDAR
