BEGIN:VCALENDAR
VERSION:2.0
PRODID:-//https://www.lecze-salezjanie.pl///DJ-Events//EN
BEGIN:VEVENT
SUMMARY:W 75 - lecie Ochotniczej Straży Pożarnej w Łęczu - poświęcenie Sztandaru
UID:519@https://www.lecze-salezjanie.pl/
DTSTART:20220806T130000
DTEND:20220806T130000
DTSTAMP:20260419T194101
CATEGORIES:Msza święta
LOCATION:Łęcze 82-340 Łęcze 48
GEO:54.2700545652713;19.468870040475466
DESCRIPTION:
URL:https://www.lecze-salezjanie.pl//component/djevents/details/2022-08-06/519-w-75-lecie-ochotniczej-strazy-pozarnej-w-leczu-poswiecenie-sztandaru
END:VEVENT
END:VCALENDAR
