BEGIN:VCALENDAR
VERSION:2.0
PRODID:-//https://www.lecze-salezjanie.pl///DJ-Events//EN
BEGIN:VEVENT
SUMMARY:+ Helena Sylwestrzak - w 16 rocznicę śmierci, Jan Sylwestrzak, Andrzej, Jadwiga i Alicja z domu Przybylskich, Roman Giedrys
UID:469@https://www.lecze-salezjanie.pl/
DTSTART:20220807T103000
DTEND:20220807T103000
DTSTAMP:20260419T175613
CATEGORIES:Msza święta
LOCATION:Suchacz 82-340 Kielecka 14
GEO:54.2856461944789;19.44132685661316
DESCRIPTION:
URL:https://www.lecze-salezjanie.pl//component/djevents/details/2022-08-07/469-helena-sylwestrzak-w-16-rocznice-smierci-jan-sylwestrzak-andrzej-jadwiga-i-alicja-z-domu-przybylskich-roman-giedrys
END:VEVENT
END:VCALENDAR
