BEGIN:VCALENDAR
VERSION:2.0
PRODID:-//https://www.lecze-salezjanie.pl///DJ-Events//EN
BEGIN:VEVENT
SUMMARY:+ Genowefa - w 10 rocznicę śmierci, Anna i Edward, zmarli rodzice z obojga stron
UID:583@https://www.lecze-salezjanie.pl/
DTSTART:20220807T120000
DTEND:20220807T120000
DTSTAMP:20260419T175334
CATEGORIES:Msza święta
LOCATION:Łęcze 82-340 Łęcze 48
GEO:54.2700545652713;19.468870040475466
DESCRIPTION:
URL:https://www.lecze-salezjanie.pl//component/djevents/details/2022-08-07/583-genowefa-w-10-rocznice-smierci-anna-i-edward-zmarli-rodzice-z-obojga-stron
END:VEVENT
END:VCALENDAR
