BEGIN:VCALENDAR
VERSION:2.0
PRODID:-//https://www.lecze-salezjanie.pl///DJ-Events//EN
BEGIN:VEVENT
SUMMARY:+ Ewa i Czesław Maszkowscy, Janina, Mieczysław, Henryk Manowscy
UID:630@https://www.lecze-salezjanie.pl/
DTSTART:20220807T090000
DTEND:20220807T090000
DTSTAMP:20260419T175434
CATEGORIES:Msza święta
LOCATION:Łęcze 82-340 Łęcze 48
GEO:54.2700545652713;19.468870040475466
DESCRIPTION:
URL:https://www.lecze-salezjanie.pl//component/djevents/details/2022-08-07/630-ewa-i-czeslaw-maszkowscy-janina-mieczyslaw-henryk-manowscy
END:VEVENT
END:VCALENDAR
