BEGIN:VCALENDAR
VERSION:2.0
PRODID:-//https://www.lecze-salezjanie.pl///DJ-Events//EN
BEGIN:VEVENT
SUMMARY:+ Zofia i Józef Niemiec, Maria i Tadeusz Gawlik, Maria Franczyk
UID:658@https://www.lecze-salezjanie.pl/
DTSTART:20220808T180000
DTEND:20220808T180000
DTSTAMP:20260419T175319
CATEGORIES:Msza święta
LOCATION:Łęcze 82-340 Łęcze 48
GEO:54.2700545652713;19.468870040475466
DESCRIPTION:
URL:https://www.lecze-salezjanie.pl//component/djevents/details/2022-08-08/658-zofia-i-jozef-niemiec-maria-i-tadeusz-gawlik-maria-franczyk
END:VEVENT
END:VCALENDAR
