BEGIN:VCALENDAR
VERSION:2.0
PRODID:-//https://www.lecze-salezjanie.pl///DJ-Events//EN
BEGIN:VEVENT
SUMMARY:O Boże Błogosławieństwo, opiekę Matki Bożej i zdrowie dla rodziny Cebulów, Gawlików i Kułaków
UID:659@https://www.lecze-salezjanie.pl/
DTSTART:20220809T170000
DTEND:20220809T170000
DTSTAMP:20260419T175613
CATEGORIES:Msza święta
LOCATION:Suchacz 82-340 Kielecka 14
GEO:54.2856461944789;19.44132685661316
DESCRIPTION:
URL:https://www.lecze-salezjanie.pl//component/djevents/details/2022-08-09/659-o-boze-blogoslawienstwo-opieke-matki-bozej-i-zdrowie-dla-rodziny-cebulow-gawlikow-i-kulakow
END:VEVENT
END:VCALENDAR
