BEGIN:VCALENDAR
VERSION:2.0
PRODID:-//https://www.lecze-salezjanie.pl///DJ-Events//EN
BEGIN:VEVENT
SUMMARY:Dziękczynna za otrzymane łaski, z prośbą o Boże Błogosławieństwo, opiekę Matki Bożej i zdrowie dla rodzin Niemców, Gawlików i Franczyków
UID:660@https://www.lecze-salezjanie.pl/
DTSTART:20220810T180000
DTEND:20220810T180000
DTSTAMP:20260419T175626
CATEGORIES:Msza święta
LOCATION:Łęcze 82-340 Łęcze 48
GEO:54.2700545652713;19.468870040475466
DESCRIPTION:
URL:https://www.lecze-salezjanie.pl//component/djevents/details/2022-08-10/660-dziekczynna-za-otrzymane-laski-z-prosba-o-boze-blogoslawienstwo-opieke-matki-bozej-i-zdrowie-dla-rodzin-niemcow-gawlikow-i-franczykow
END:VEVENT
END:VCALENDAR
