BEGIN:VCALENDAR
VERSION:2.0
PRODID:-//https://www.lecze-salezjanie.pl///DJ-Events//EN
BEGIN:VEVENT
SUMMARY:O Boże Błogosławieństwo, opiekę Matki Bożej dla całej rodziny Myszka i szczęśliwe zakończenie budowy
UID:662@https://www.lecze-salezjanie.pl/
DTSTART:20220811T170000
DTEND:20220811T170000
DTSTAMP:20260419T175644
CATEGORIES:Msza święta
LOCATION:Suchacz 82-340 Kielecka 14
GEO:54.2856461944789;19.44132685661316
DESCRIPTION:
URL:https://www.lecze-salezjanie.pl//component/djevents/details/2022-08-11/662-o-boze-blogoslawienstwo-opieke-matki-bozej-dla-calej-rodziny-myszka-i-szczesliwe-zakonczenie-budowy
END:VEVENT
END:VCALENDAR
