BEGIN:VCALENDAR
VERSION:2.0
PRODID:-//https://www.lecze-salezjanie.pl///DJ-Events//EN
BEGIN:VEVENT
SUMMARY:Zmarli z rodziny Niemców, Dudków i Myszka
UID:663@https://www.lecze-salezjanie.pl/
DTSTART:20220812T180000
DTEND:20220812T180000
DTSTAMP:20260419T175151
CATEGORIES:Msza święta
LOCATION:Łęcze 82-340 Łęcze 48
GEO:54.2700545652713;19.468870040475466
DESCRIPTION:
URL:https://www.lecze-salezjanie.pl//component/djevents/details/2022-08-12/663-zmarli-z-rodziny-niemcow-dudkow-i-myszka
END:VEVENT
END:VCALENDAR
