BEGIN:VCALENDAR
VERSION:2.0
PRODID:-//https://www.lecze-salezjanie.pl///DJ-Events//EN
BEGIN:VEVENT
SUMMARY:+ Jan i Maria Marecik - z okazji imienin Jana
UID:664@https://www.lecze-salezjanie.pl/
DTSTART:20220813T180000
DTEND:20220813T180000
DTSTAMP:20260419T175211
CATEGORIES:Msza święta
LOCATION:Łęcze 82-340 Łęcze 48
GEO:54.2700545652713;19.468870040475466
DESCRIPTION:
URL:https://www.lecze-salezjanie.pl//component/djevents/details/2022-08-13/664-jan-i-maria-marecik-z-okazji-imienin-jana
END:VEVENT
END:VCALENDAR
