BEGIN:VCALENDAR
VERSION:2.0
PRODID:-//https://www.lecze-salezjanie.pl///DJ-Events//EN
BEGIN:VEVENT
SUMMARY:+ Marianna Matuszak - w 25 rocznicę śmierci oraz Franciszek, Iwona, Regina i Leon
UID:576@https://www.lecze-salezjanie.pl/
DTSTART:20220814T103000
DTEND:20220814T103000
DTSTAMP:20260419T162011
CATEGORIES:Msza święta
LOCATION:Suchacz 82-340 Kielecka 14
GEO:54.2856461944789;19.44132685661316
DESCRIPTION:
URL:https://www.lecze-salezjanie.pl//component/djevents/details/2022-08-14/576-marianna-matuszak-w-25-rocznice-smierci-oraz-franciszek-iwona-regina-i-leon
END:VEVENT
END:VCALENDAR
