BEGIN:VCALENDAR
VERSION:2.0
PRODID:-//https://www.lecze-salezjanie.pl///DJ-Events//EN
BEGIN:VEVENT
SUMMARY:+ Kazimierz Milewski - w 20 rocznicę śmierci oraz zmarli rodzice z obojga stron
UID:682@https://www.lecze-salezjanie.pl/
DTSTART:20220814T090000
DTEND:20220814T090000
DTSTAMP:20260419T162054
CATEGORIES:Msza święta
LOCATION:Łęcze 82-340 Łęcze 48
GEO:54.2700545652713;19.468870040475466
DESCRIPTION:
URL:https://www.lecze-salezjanie.pl//component/djevents/details/2022-08-14/682-kazimierz-milewski-w-20-rocznice-smierci-oraz-zmarli-rodzice-z-obojga-stron
END:VEVENT
END:VCALENDAR
