BEGIN:VCALENDAR
VERSION:2.0
PRODID:-//https://www.lecze-salezjanie.pl///DJ-Events//EN
BEGIN:VEVENT
SUMMARY:O zdrowie, Boże Błogosławieństwo i opiekę Matki Bożej dla Aleksandry
UID:647@https://www.lecze-salezjanie.pl/
DTSTART:20220815T120000
DTEND:20220815T120000
DTSTAMP:20260419T162239
CATEGORIES:Msza święta
LOCATION:Łęcze 82-340 Łęcze 48
GEO:54.2700545652713;19.468870040475466
DESCRIPTION:
URL:https://www.lecze-salezjanie.pl//component/djevents/details/2022-08-15/647-o-zdrowie-boze-blogoslawienstwo-i-opieke-matki-bozej-dla-aleksandry
END:VEVENT
END:VCALENDAR
