BEGIN:VCALENDAR
VERSION:2.0
PRODID:-//https://www.lecze-salezjanie.pl///DJ-Events//EN
BEGIN:VEVENT
SUMMARY:+ Piotr Bernecki - od Stowarzyszenia Miłośników Suchacza i okolicy w Suchaczu i Społeczności Szkoły Podstawowej w Suchaczu
UID:683@https://www.lecze-salezjanie.pl/
DTSTART:20220815T103000
DTEND:20220815T103000
DTSTAMP:20260419T162154
CATEGORIES:Msza święta
LOCATION:Suchacz 82-340 Kielecka 14
GEO:54.2856461944789;19.44132685661316
DESCRIPTION:
URL:https://www.lecze-salezjanie.pl//component/djevents/details/2022-08-15/683-piotr-bernecki-od-stowarzyszenia-milosnikow-suchacza-i-okolicy-w-suchaczu-i-spolecznosci-szkoly-podstawowej-w-suchaczu
END:VEVENT
END:VCALENDAR
