BEGIN:VCALENDAR
VERSION:2.0
PRODID:-//https://www.lecze-salezjanie.pl///DJ-Events//EN
BEGIN:VEVENT
SUMMARY:O opiekę Matki Bożej dla Oli, aby chciała się leczyć
UID:665@https://www.lecze-salezjanie.pl/
DTSTART:20220816T170000
DTEND:20220816T170000
DTSTAMP:20260419T161931
CATEGORIES:Msza święta
LOCATION:Suchacz 82-340 Kielecka 14
GEO:54.2856461944789;19.44132685661316
DESCRIPTION:
URL:https://www.lecze-salezjanie.pl//component/djevents/details/2022-08-16/665-o-opieke-matki-bozej-dla-oli-aby-chciala-sie-leczyc
END:VEVENT
END:VCALENDAR
