BEGIN:VCALENDAR
VERSION:2.0
PRODID:-//https://www.lecze-salezjanie.pl///DJ-Events//EN
BEGIN:VEVENT
SUMMARY:Dziękczynna, z prośbą o zdrowie, Boże Błogosławieństwo i opiekę Matki Bożej dla dzieci i wnuków
UID:562@https://www.lecze-salezjanie.pl/
DTSTART:20220821T090000
DTEND:20220821T090000
DTSTAMP:20260419T144909
CATEGORIES:Msza święta
LOCATION:Łęcze 82-340 Łęcze 48
GEO:54.2700545652713;19.468870040475466
DESCRIPTION:
URL:https://www.lecze-salezjanie.pl//component/djevents/details/2022-08-21/562-dziekczynna-z-prosba-o-zdrowie-boze-blogoslawienstwo-i-opieke-matki-bozej-dla-dzieci-i-wnukow
END:VEVENT
END:VCALENDAR
