BEGIN:VCALENDAR
VERSION:2.0
PRODID:-//https://www.lecze-salezjanie.pl///DJ-Events//EN
BEGIN:VEVENT
SUMMARY:Za zmarłych Członków Klubu Seniora w Suchaczu
UID:684@https://www.lecze-salezjanie.pl/
DTSTART:20220821T103000
DTEND:20220821T103000
DTSTAMP:20260419T144638
CATEGORIES:Msza święta
LOCATION:Suchacz 82-340 Kielecka 14
GEO:54.2856461944789;19.44132685661316
DESCRIPTION:
URL:https://www.lecze-salezjanie.pl//component/djevents/details/2022-08-21/684-za-zmarlych-czlonkow-klubu-seniora-w-suchaczu
END:VEVENT
END:VCALENDAR
