BEGIN:VCALENDAR
VERSION:2.0
PRODID:-//https://www.lecze-salezjanie.pl///DJ-Events//EN
BEGIN:VEVENT
SUMMARY:+ Edward Chodulski - w 18 rocznicę śmierci, zmarli rodzice z obojga stron, Bronisław Subotowicz
UID:691@https://www.lecze-salezjanie.pl/
DTSTART:20220821T120000
DTEND:20220821T120000
DTSTAMP:20260419T144738
CATEGORIES:Msza święta
LOCATION:Łęcze 82-340 Łęcze 48
GEO:54.2700545652713;19.468870040475466
DESCRIPTION:
URL:https://www.lecze-salezjanie.pl//component/djevents/details/2022-08-21/691-edward-chodulski-w-18-rocznice-smierci-zmarli-rodzice-z-obojga-stron-bronislaw-subotowicz
END:VEVENT
END:VCALENDAR
