BEGIN:VCALENDAR
VERSION:2.0
PRODID:-//https://www.lecze-salezjanie.pl///DJ-Events//EN
BEGIN:VEVENT
SUMMARY:+ ks. Stanisław Dudek - od Pani Jankowskiej
UID:668@https://www.lecze-salezjanie.pl/
DTSTART:20220823T170000
DTEND:20220823T170000
DTSTAMP:20260419T144640
CATEGORIES:Msza święta
LOCATION:Suchacz 82-340 Kielecka 14
GEO:54.2856461944789;19.44132685661316
DESCRIPTION:
URL:https://www.lecze-salezjanie.pl//component/djevents/details/2022-08-23/668-ks-stanislaw-dudek-od-pani-jankowskiej-1
END:VEVENT
END:VCALENDAR
