BEGIN:VCALENDAR
VERSION:2.0
PRODID:-//https://www.lecze-salezjanie.pl///DJ-Events//EN
BEGIN:VEVENT
SUMMARY:O ulgę w cierpieniu, szczęśliwą śmierć i opiekę Matki Bożej dla Ireny Andronik
UID:723@https://www.lecze-salezjanie.pl/
DTSTART:20220824T180000
DTEND:20220824T180000
DTSTAMP:20260419T144818
CATEGORIES:Msza święta
LOCATION:Łęcze 82-340 Łęcze 48
GEO:54.2700545652713;19.468870040475466
DESCRIPTION:
URL:https://www.lecze-salezjanie.pl//component/djevents/details/2022-08-24/723-o-ulge-w-cierpieniu-szczesliwa-smierc-i-opieke-matki-bozej-dla-ireny-andronik
END:VEVENT
END:VCALENDAR
