BEGIN:VCALENDAR
VERSION:2.0
PRODID:-//https://www.lecze-salezjanie.pl///DJ-Events//EN
BEGIN:VEVENT
SUMMARY:Za zmarłych z rodziny Kozubal, Brzezińskich, Zawilińskich, Baran, Andratsek, Szynkowskich
UID:724@https://www.lecze-salezjanie.pl/
DTSTART:20220826T180000
DTEND:20220826T180000
DTSTAMP:20260419T144839
CATEGORIES:Msza święta
LOCATION:Łęcze 82-340 Łęcze 48
GEO:54.2700545652713;19.468870040475466
DESCRIPTION:
URL:https://www.lecze-salezjanie.pl//component/djevents/details/2022-08-26/724-za-zmarlych-z-rodziny-kozubal-brzezinskich-zawilinskich-baran-andratsek-szynkowskich
END:VEVENT
END:VCALENDAR
