BEGIN:VCALENDAR
VERSION:2.0
PRODID:-//https://www.lecze-salezjanie.pl///DJ-Events//EN
BEGIN:VEVENT
SUMMARY:+ ks. Stanisław Dudek - od rodzin Nowej Wsi Gwoździeckiej
UID:722@https://www.lecze-salezjanie.pl/
DTSTART:20220827T180000
DTEND:20220827T180000
DTSTAMP:20260419T144741
CATEGORIES:Msza święta
LOCATION:Łęcze 82-340 Łęcze 48
GEO:54.2700545652713;19.468870040475466
DESCRIPTION:
URL:https://www.lecze-salezjanie.pl//component/djevents/details/2022-08-27/722-ks-stanislaw-dudek-od-rodzin-nowej-wsi-gwozdzieckiej-1
END:VEVENT
END:VCALENDAR
