BEGIN:VCALENDAR
VERSION:2.0
PRODID:-//https://www.lecze-salezjanie.pl///DJ-Events//EN
BEGIN:VEVENT
SUMMARY:Laura Pakuszewska
UID:693@https://www.lecze-salezjanie.pl/
DTSTART:20220828T120000
DTEND:20220828T120000
DTSTAMP:20260421T120018
CATEGORIES:Chrzest
LOCATION:Łęcze 82-340 Łęcze 48
GEO:54.2700545652713;19.468870040475466
DESCRIPTION:
URL:https://www.lecze-salezjanie.pl//component/djevents/details/2022-08-28/693-laura-pakuszewska
END:VEVENT
END:VCALENDAR
