BEGIN:VCALENDAR
VERSION:2.0
PRODID:-//https://www.lecze-salezjanie.pl///DJ-Events//EN
BEGIN:VEVENT
SUMMARY:+ Stanisław Kaczan - Msza święta Gregoriańska (5)
UID:290@https://www.lecze-salezjanie.pl/
DTSTART:20220905T180000
DTEND:20220905T180000
DTSTAMP:20260421T105932
CATEGORIES:Msza święta
LOCATION:Łęcze 82-340 Łęcze 48
GEO:54.2700545652713;19.468870040475466
DESCRIPTION:
URL:https://www.lecze-salezjanie.pl//component/djevents/details/2022-09-05/290-stanislaw-kaczan-msza-swieta-gregorianska-5
END:VEVENT
END:VCALENDAR
