BEGIN:VCALENDAR
VERSION:2.0
PRODID:-//https://www.lecze-salezjanie.pl///DJ-Events//EN
BEGIN:VEVENT
SUMMARY:Dziękczynna, z prośbą o Dary Ducha Świętego i nieustanną opiekę Matki Bożej w pracy i nauce dla dzieci i wnuków w roku szkolnym
UID:694@https://www.lecze-salezjanie.pl/
DTSTART:20220905T180000
DTEND:20220905T180000
DTSTAMP:20260421T103356
CATEGORIES:Msza święta
LOCATION:Łęcze 82-340 Łęcze 48
GEO:54.2700545652713;19.468870040475466
DESCRIPTION:
URL:https://www.lecze-salezjanie.pl//component/djevents/details/2022-09-05/694-dziekczynna-z-prosba-o-dary-ducha-swietego-i-nieustanna-opieke-matki-bozej-w-pracy-i-nauce-dla-dzieci-i-wnukow-w-roku-szkolnym
END:VEVENT
END:VCALENDAR
