BEGIN:VCALENDAR
VERSION:2.0
PRODID:-//https://www.lecze-salezjanie.pl///DJ-Events//EN
BEGIN:VEVENT
SUMMARY:Dziękczynna, z prośbą o Dary Ducha Świętego i nieustanną opiekę Matki Bożej dla Romualdy Szczepura i jej rodziny
UID:708@https://www.lecze-salezjanie.pl/
DTSTART:20220906T170000
DTEND:20220906T170000
DTSTAMP:20260421T104651
CATEGORIES:Msza święta
LOCATION:Suchacz 82-340 Kielecka 14
GEO:54.2856461944789;19.44132685661316
DESCRIPTION:
URL:https://www.lecze-salezjanie.pl//component/djevents/details/2022-09-06/708-dziekczynna-z-prosba-o-dary-ducha-swietego-i-nieustanna-opieke-matki-bozej-dla-romualdy-szczepura-i-jej-rodziny
END:VEVENT
END:VCALENDAR
