BEGIN:VCALENDAR
VERSION:2.0
PRODID:-//https://www.lecze-salezjanie.pl///DJ-Events//EN
BEGIN:VEVENT
SUMMARY:Dziękczynna, z prośbą o dary Bożej Miłości, zdrowie i nieustanną opiekę Matki Bożej dla Krystyny Wójcik i jej rodziny
UID:695@https://www.lecze-salezjanie.pl/
DTSTART:20220907T180000
DTEND:20220907T180000
DTSTAMP:20260421T104424
CATEGORIES:Msza święta
LOCATION:Łęcze 82-340 Łęcze 48
GEO:54.2700545652713;19.468870040475466
DESCRIPTION:
URL:https://www.lecze-salezjanie.pl//component/djevents/details/2022-09-07/695-dziekczynna-z-prosba-o-dary-bozej-milosci-zdrowie-i-nieustanna-opieke-matki-bozej-dla-krystyny-wojcik-i-jej-rodziny
END:VEVENT
END:VCALENDAR
