BEGIN:VCALENDAR
VERSION:2.0
PRODID:-//https://www.lecze-salezjanie.pl///DJ-Events//EN
BEGIN:VEVENT
SUMMARY:+ Antoni Lejmanowicz - z ofiar pogrzebu
UID:1064@https://www.lecze-salezjanie.pl/
DTSTART:20230212T090000
DTEND:20230212T090000
DTSTAMP:20260421T104455
CATEGORIES:Msza święta
LOCATION:Łęcze 82-340 Łęcze 48
GEO:54.2700545652713;19.468870040475466
DESCRIPTION:
URL:https://www.lecze-salezjanie.pl//component/djevents/details/2023-02-12/1064-antoni-lejmanowicz-z-ofiar-pogrzebu
END:VEVENT
END:VCALENDAR
