BEGIN:VCALENDAR
VERSION:2.0
PRODID:-//https://www.lecze-salezjanie.pl///DJ-Events//EN
BEGIN:VEVENT
SUMMARY:W intencji ofiarodawców
UID:1069@https://www.lecze-salezjanie.pl/
DTSTART:20230218T180000
DTEND:20230218T180000
DTSTAMP:20260421T102623
CATEGORIES:Msza święta
LOCATION:Łęcze 82-340 Łęcze 48
GEO:54.2700545652713;19.468870040475466
DESCRIPTION:
URL:https://www.lecze-salezjanie.pl//component/djevents/details/2023-02-18/1069-w-intencji-ofiarodawcow
END:VEVENT
END:VCALENDAR
