BEGIN:VCALENDAR
VERSION:2.0
PRODID:-//193.239.44.119//NONSGML kigkonsult.se iCalcreator 2.20//
CALSCALE:GREGORIAN
METHOD:PUBLISH
X-WR-TIMEZONE:Europe/Warsaw
BEGIN:VEVENT
UID:event3759@Parafia Rzymskokatolicka Najświętszego Serca Jezusowego w Łęc
 zu - Salezjanie
DTSTAMP:20260421T114627Z
CATEGORIES:Msza Święta
DESCRIPTION:Dziękczynno-błagalna za Julię z okazji rocznicy urodzin\nKatego
 ria: Msza Święta\nLink: https://www.lecze-salezjanie.pl/index.php?option=c
 om_jem&view=event&id=3759:dziekczynno-blagalna-za-julie-z-okazji-rocznicy-
 urodzin\n
DTSTART;TZID=Europe/Warsaw:20260422T170000
DTEND;TZID=Europe/Warsaw:20260422T170000
LOCATION:Kościół Najświętszego Serca Jezusowego w Łęczu\,Łęcze 48\,Łęcze
SUMMARY:Dziękczynno-błagalna za Julię z okazji rocznicy urodzin
URL:https://www.lecze-salezjanie.pl/index.php?option=com_jem&view=event&id=
 3759:dziekczynno-blagalna-za-julie-z-okazji-rocznicy-urodzin
END:VEVENT
END:VCALENDAR