BEGIN:VCALENDAR
VERSION:2.0
PRODID:-//193.239.44.119//NONSGML kigkonsult.se iCalcreator 2.20//
CALSCALE:GREGORIAN
METHOD:PUBLISH
X-WR-TIMEZONE:Europe/Warsaw
BEGIN:VEVENT
UID:event3763@Parafia Rzymskokatolicka Najświętszego Serca Jezusowego w Łęc
 zu - Salezjanie
DTSTAMP:20260421T113011Z
CATEGORIES:Msza Święta
DESCRIPTION:+ Jerzy Olesik\nKategoria: Msza Święta\nLink: https://www.lecze
 -salezjanie.pl/index.php?option=com_jem&view=event&id=3763:jerzy-olesik\n
DTSTART;TZID=Europe/Warsaw:20260426T090000
DTEND;TZID=Europe/Warsaw:20260426T090000
LOCATION:Kościół Najświętszego Serca Jezusowego w Łęczu\,Łęcze 48\,Łęcze
SUMMARY:+ Jerzy Olesik
URL:https://www.lecze-salezjanie.pl/index.php?option=com_jem&view=event&id=
 3763:jerzy-olesik
END:VEVENT
END:VCALENDAR