BEGIN:VCALENDAR
VERSION:2.0
PRODID:-//193.239.44.119//NONSGML kigkonsult.se iCalcreator 2.20//
CALSCALE:GREGORIAN
METHOD:PUBLISH
X-WR-TIMEZONE:Europe/Warsaw
BEGIN:VEVENT
UID:event3764@Parafia Rzymskokatolicka Najświętszego Serca Jezusowego w Łęc
 zu - Salezjanie
DTSTAMP:20260421T113201Z
CATEGORIES:Msza Święta
DESCRIPTION:+ Helena i Adam Wdowiak\nKategoria: Msza Święta\nLink: https://
 www.lecze-salezjanie.pl/index.php?option=com_jem&view=event&id=3764:helena
 -i-adam-wdowiak\n
DTSTART;TZID=Europe/Warsaw:20260426T120000
DTEND;TZID=Europe/Warsaw:20260426T120000
LOCATION:Kościół Najświętszego Serca Jezusowego w Łęczu\,Łęcze 48\,Łęcze
SUMMARY:+ Helena i Adam Wdowiak
URL:https://www.lecze-salezjanie.pl/index.php?option=com_jem&view=event&id=
 3764:helena-i-adam-wdowiak
END:VEVENT
END:VCALENDAR