BEGIN:VCALENDAR
VERSION:2.0
PRODID:-//193.239.44.119//NONSGML kigkonsult.se iCalcreator 2.20//
CALSCALE:GREGORIAN
METHOD:PUBLISH
X-WR-TIMEZONE:Europe/Warsaw
BEGIN:VEVENT
UID:event3768@Parafia Rzymskokatolicka Najświętszego Serca Jezusowego w Łęc
 zu - Salezjanie
DTSTAMP:20260421T114711Z
CATEGORIES:Msza Święta
DESCRIPTION:+ Władysława (f) Surowiec - w 30 dzień po pogrzebie\nKategoria:
  Msza Święta\nLink: https://www.lecze-salezjanie.pl/index.php?option=com_j
 em&view=event&id=3768:wladyslawa-f-surowiec-w-30-dzien-po-pogrzebie\n
DTSTART;TZID=Europe/Warsaw:20260501T170000
DTEND;TZID=Europe/Warsaw:20260501T170000
LOCATION:Kościół Najświętszego Serca Jezusowego w Łęczu\,Łęcze 48\,Łęcze
SUMMARY:+ Władysława (f) Surowiec - w 30 dzień po pogrzebie
URL:https://www.lecze-salezjanie.pl/index.php?option=com_jem&view=event&id=
 3768:wladyslawa-f-surowiec-w-30-dzien-po-pogrzebie
END:VEVENT
END:VCALENDAR