BEGIN:VCALENDAR
VERSION:2.0
PRODID:-//193.239.44.119//NONSGML kigkonsult.se iCalcreator 2.20//
CALSCALE:GREGORIAN
METHOD:PUBLISH
X-WR-TIMEZONE:Europe/Warsaw
BEGIN:VEVENT
UID:event3770@Parafia Rzymskokatolicka Najświętszego Serca Jezusowego w Łęc
 zu - Salezjanie
DTSTAMP:20260421T114504Z
CATEGORIES:Msza Święta
DESCRIPTION:+ Wiesław Baranowski - intencja od uczestników pogrzebu\nKatego
 ria: Msza Święta\nLink: https://www.lecze-salezjanie.pl/index.php?option=c
 om_jem&view=event&id=3770:wieslaw-baranowski-intencja-od-uczestnikow-pogrz
 ebu\n
DTSTART;TZID=Europe/Warsaw:20260502T170000
DTEND;TZID=Europe/Warsaw:20260502T170000
LOCATION:Kościół Najświętszego Serca Jezusowego w Łęczu\,Łęcze 48\,Łęcze
SUMMARY:+ Wiesław Baranowski - intencja od uczestników pogrzebu
URL:https://www.lecze-salezjanie.pl/index.php?option=com_jem&view=event&id=
 3770:wieslaw-baranowski-intencja-od-uczestnikow-pogrzebu
END:VEVENT
END:VCALENDAR