BEGIN:VCALENDAR
VERSION:2.0
PRODID:-//193.239.44.119//NONSGML kigkonsult.se iCalcreator 2.20//
CALSCALE:GREGORIAN
METHOD:PUBLISH
X-WR-TIMEZONE:Europe/Warsaw
BEGIN:VEVENT
UID:event3773@Parafia Rzymskokatolicka Najświętszego Serca Jezusowego w Łęc
 zu - Salezjanie
DTSTAMP:20260421T114717Z
CATEGORIES:Msza Święta
DESCRIPTION:W intecji żywych i zmarłych członkiń Koła Zywego Różańca w Łęcz
 u oraz ich rodzin\nKategoria: Msza Święta\nLink: https://www.lecze-salezja
 nie.pl/index.php?option=com_jem&view=event&id=3773:w-intecji-zywych-i-zmar
 lych-czlonkin-kola-zywego-rozanca-w-leczu-oraz-ich-rodzin\n
DTSTART;TZID=Europe/Warsaw:20260502T170000
DTEND;TZID=Europe/Warsaw:20260502T170000
LOCATION:Kościół Najświętszego Serca Jezusowego w Łęczu\,Łęcze 48\,Łęcze
SUMMARY:W intecji żywych i zmarłych członkiń Koła Zywego Różańca w Łęczu or
 az ich rodzin
URL:https://www.lecze-salezjanie.pl/index.php?option=com_jem&view=event&id=
 3773:w-intecji-zywych-i-zmarlych-czlonkin-kola-zywego-rozanca-w-leczu-oraz
 -ich-rodzin
END:VEVENT
END:VCALENDAR