BEGIN:VCALENDAR
VERSION:2.0
PRODID:-//193.239.44.119//NONSGML kigkonsult.se iCalcreator 2.20//
CALSCALE:GREGORIAN
METHOD:PUBLISH
X-WR-TIMEZONE:Europe/Warsaw
BEGIN:VEVENT
UID:event3787@Parafia Rzymskokatolicka Najświętszego Serca Jezusowego w Łęc
 zu - Salezjanie
DTSTAMP:20260421T114422Z
CATEGORIES:Msza Święta
DESCRIPTION:+ Włodzimierz Simiński - w 30 dzień od pogrzebu\nKategoria: Msz
 a Święta\nLink: https://www.lecze-salezjanie.pl/index.php?option=com_jem&v
 iew=event&id=3787:wlodzimierz-siminski-w-30-dzien-od-pogrzebu\n
DTSTART;TZID=Europe/Warsaw:20260426T090000
DTEND;TZID=Europe/Warsaw:20260426T090000
LOCATION:Kościół Maryi Wspomożycielki Wiernych w Suchaczu\,Kielecka 12B\,Su
 chacz
SUMMARY:+ Włodzimierz Simiński - w 30 dzień od pogrzebu
URL:https://www.lecze-salezjanie.pl/index.php?option=com_jem&view=event&id=
 3787:wlodzimierz-siminski-w-30-dzien-od-pogrzebu
END:VEVENT
END:VCALENDAR