BEGIN:VCALENDAR
VERSION:2.0
PRODID:-//193.239.44.119//NONSGML kigkonsult.se iCalcreator 2.20//
CALSCALE:GREGORIAN
METHOD:PUBLISH
X-WR-TIMEZONE:Europe/Warsaw
BEGIN:VEVENT
UID:event3789@Parafia Rzymskokatolicka Najświętszego Serca Jezusowego w Łęc
 zu - Salezjanie
DTSTAMP:20260421T114716Z
CATEGORIES:Msza Święta
DESCRIPTION:O Boże błogosławieństwo dla Aliny Milewskiej i jej córek i wnuc
 zek\nKategoria: Msza Święta\nLink: https://www.lecze-salezjanie.pl/index.p
 hp?option=com_jem&view=event&id=3789:o-boze-blogoslawienstwo-dla-aliny-mil
 ewskiej-i-jej-corek-i-wnuczek\n
DTSTART;TZID=Europe/Warsaw:20260426T120000
DTEND;TZID=Europe/Warsaw:20260426T120000
LOCATION:Świetlica Wiejska w Kamionku Wielkim\,Kamionek Wielki 5B\,Kamionek
  Wielki
SUMMARY:O Boże błogosławieństwo dla Aliny Milewskiej i jej córek i wnuczek
URL:https://www.lecze-salezjanie.pl/index.php?option=com_jem&view=event&id=
 3789:o-boze-blogoslawienstwo-dla-aliny-milewskiej-i-jej-corek-i-wnuczek
END:VEVENT
END:VCALENDAR