BEGIN:VCALENDAR
VERSION:2.0
PRODID:-//193.239.44.119//NONSGML kigkonsult.se iCalcreator 2.20//
CALSCALE:GREGORIAN
METHOD:PUBLISH
X-WR-TIMEZONE:Europe/Warsaw
BEGIN:VEVENT
UID:event3795@Parafia Rzymskokatolicka Najświętszego Serca Jezusowego w Łęc
 zu - Salezjanie
DTSTAMP:20260421T114422Z
CATEGORIES:Msza Święta
DESCRIPTION:+ Genowefa\, Edmund Stepnowscy i zmarli z rodziny\nKategoria: M
 sza Święta\nLink: https://www.lecze-salezjanie.pl/index.php?option=com_jem
 &view=event&id=3795:genowefa-edmund-stepnowscy-i-zmarli-z-rodziny\n
DTSTART;TZID=Europe/Warsaw:20260503T120000
DTEND;TZID=Europe/Warsaw:20260503T120000
LOCATION:Świetlica Wiejska w Kamionku Wielkim\,Kamionek Wielki 5B\,Kamionek
  Wielki
SUMMARY:+ Genowefa\, Edmund Stepnowscy i zmarli z rodziny
URL:https://www.lecze-salezjanie.pl/index.php?option=com_jem&view=event&id=
 3795:genowefa-edmund-stepnowscy-i-zmarli-z-rodziny
END:VEVENT
END:VCALENDAR