BEGIN:VCALENDAR
VERSION:2.0
PRODID:-//193.239.44.119//NONSGML kigkonsult.se iCalcreator 2.20//
CALSCALE:GREGORIAN
METHOD:PUBLISH
X-WR-TIMEZONE:Europe/Warsaw
BEGIN:VEVENT
UID:event3799@Parafia Rzymskokatolicka Najświętszego Serca Jezusowego w Łęc
 zu - Salezjanie
DTSTAMP:20260421T114758Z
CATEGORIES:Msza Święta
DESCRIPTION:O Boże błogosławieństwo i potrzebne łaski dla życzych i zmarłyc
 h członków Koła Żywego Różańca w Suchaczu. O potrzebny dostęp do żywności.
 \nKategoria: Msza Święta\nLink: https://www.lecze-salezjanie.pl/index.php?
 option=com_jem&view=event&id=3799:o-boze-blogoslawienstwo-i-potrzebne-lask
 i-dla-zyczych-i-zmarlych-czlonkow-kola-zywego-rozanca-w-suchaczu-o-potrzeb
 ny-dostep-do-zywnosci\n
DTSTART;TZID=Europe/Warsaw:20260501T170000
DTEND;TZID=Europe/Warsaw:20260501T170000
LOCATION:Kościół Maryi Wspomożycielki Wiernych w Suchaczu\,Kielecka 12B\,Su
 chacz
SUMMARY:O Boże błogosławieństwo i potrzebne łaski dla życzych i zmarłych cz
 łonków Koła Żywego Różańca w Suchaczu. O potrzebny dostęp do żywności.
URL:https://www.lecze-salezjanie.pl/index.php?option=com_jem&view=event&id=
 3799:o-boze-blogoslawienstwo-i-potrzebne-laski-dla-zyczych-i-zmarlych-czlo
 nkow-kola-zywego-rozanca-w-suchaczu-o-potrzebny-dostep-do-zywnosci
END:VEVENT
END:VCALENDAR